Workbook
Name XDF: Erläuterung!$T:$FHL
Name XFD17179869184: Relationen!$ZZ$6126

Sheet Erläuterung
B4: Datenherkunft Die öffentlichen Schulen geben jeweils im Oktober ihre Einsatzplanung der Lehrkräfte über die Schulverwaltungssoftware ab, soweit die Stundenplansoftware UNTIS im Einsatz ist, werden die Daten hieraus verwendet. Die Daten werden von der senatorischen Behörde dem IQHB aufbereitet zur Verfügung gestellt. Die Daten der privaten Schulen werden vom IQHB an diesen Schulen abgefragt. Das IQHB berechnet dann nach Überführung in einen Auswertungsdatensatz die unten genannten Basisdaten und Kennzahlen für eine Zulieferung an das Statistische Landesamt (zur Aufbereitung für das Statistische Bundesamt) sowie die Kultusministerkonferenz. Vollzeitlehrkräfte-Einheiten (VZLE) Da nicht alle Lehrenden Vollzeitbeschäftigte sind, haben sich die Kultusministerien darauf verständigt, alle den Schulen zur Verfügung vollzeit-, teilzeit- und stundenweise beschäftigten Lehrkräfte entsprechend dem belegten Stellenanteil in Vollzeit-Äquivalente sogenannte ‚Vollzeitlehrkräfte-Einheiten‘ umzurechnen. Die in dieser Berechnung zugrunde gelegte Lehrerarbeitszeit ist nicht identisch mit den Stunden, die tatsächlich für den Unterricht genutzt werden können. Es sind bspw. auch Entlastungsstunden enthalten, die eine einzelne Lehrkraft für Tätigkeiten erhält, die für eine Schule wichtig sind, die aber nicht unterrichtswirksam sind. Es wird folglich festgestellt, wie viele Kräfte an Schulen insgesamt für schulische Aufgaben (inkl. Unterricht) eingesetzt und vergütet werden. Das ist unabhängig von der tatsächlichen Unterrichtsversorgung der Schüler:innen. Unterrichtsstunden Im Gegensatz zu den Vollzeitlehrkräfte-Einheiten, die die gesamte Lehrkraftarbeitszeit abdecken und auch nicht-unterrichtliche schulische Tätigkeiten sowie Ermäßigungen enthalten, beziehen sich die „erteilten Unterrichtsstunden“ auf den planmäßig vorgesehenen Unterricht. Unterrichtsausfall ist hier nicht berücksichtigt, somit handelt es sich nicht um die im Rückblick real erteilten, sondern um die nach Stundenplan vorausgeplanten Unterrichtsstunden. Als „erteilte Unterrichtsstunden“ werden somit die von den Lehrkräften pro Woche planmäßig zu erteilenden Unterrichtsstunden erfasst, unabhängig davon, ob die Stunden für Schüler:innen verpflichtend sind oder nicht. Es wird festgestellt, wie viele Lehrkräftewochenstunden „bei den Schüler:innen als Unterricht ankommen“ sollen, unabhängig davon, wie viele Lehrkräftewochenstunden dafür bezahlt werden. Schüler:in-Lehrkraft-Relation (SLR) Die Schüler:in-Lehrkraft-Relation ist die grundlegende Kennzahl, wenn es einerseits um die quantitative Einschätzung der Bereitstellung von Leistungen, die Lehrkräfte für die Schüler:innen erbringen können, und andererseits um den finanziellen Input geht. Diese Kennzahl gibt – vereinfacht gesagt – die Zahl der Schüler:innen, für die jeweils eine Vollzeit-Lehrkrafteinheit (VZLE) eingesetzt wird, wieder. Je niedriger diese Kennzahl ist, desto besser ist grds. die Versorgung der Schulen mit Lehrpersonal. Unterrichtsstunden je Klasse Mit diesem Kennwert wird die Zahl der Lehrkräftewochenstunden, die einer Klasse für Unterrichtszwecke zur Verfügung gestellt wird, angegeben. Je höher dieser Wert, desto besser ist die durchschnittliche Versorgung der Klassen mit Lehrkräftewochenstunden für Unterricht. Unterrichtsstunden je Schüler:in Es wird festgestellt, wie viele Lehrkräftewochenstunden pro Schüler:innen als Unterricht ankommen, unabhängig davon, wie viele Lehrkräftewochenstunden dafür bezahlt werden. Da bei vergleichenden Betrachtung der Unterrichtsversorgung nach den hier dargestellten Kennzahlen zu beachten ist, dass neben den erteilten Unterrichtsstunden je Klasse auch Klassengrößen eine Rolle spielen, stellt die Relation der erteilten Unterrichtsstunden je Schüler:in hier eine klassengrößenunabhängige Vergleichsvariable dar. Die Ressource Lehrkraftwochenstunde kann bei gleichen Unterrichtsstunden je Schüler:in einerseits eingesetzt werden um die Klassenfrequenzen niedrig zu halten, andererseits aber auch die erteilten Unterrichtsstunden je Klasse bei größeren Klassen zu erhöhen. Je höher dieser Wert, desto besser ist die Versorgung der Schulen schüler:innenbezogen mit Lehrkräften für den Unterrichtseinsatz.

Sheet Daten
B2: Schuljahr 2025/2026 | D2: Stadtgemeinde Bremen | H2: Stadtgemeinde Bremerhaven | L2: Land Bremen
D3: Anzahl Schüler:innen | E3: Anzahl Klassen | F3: Unterrichts-stunden | G3: Vollzeit-lehrkräfte | H3: Anzahl Schüler:innen | I3: Anzahl Klassen | J3: Unterrichts-stunden | K3: Vollzeit-lehrkräfte | L3: Anzahl Schüler:innen | M3: Anzahl Klassen | N3: Unterrichts-stunden | O3: Vollzeit-lehrkräfte
B4: öffentliche Schulen | C4: Vorklasse | D4: 18 | E4: 1 | F4: 26.454545 | G4: 1.1396104 | H4: 0 | I4: 0 | J4: 0 | K4: 0 | L4: =D4+H4 -> 18 | M4: =E4+I4 -> 1 | N4: =F4+J4 -> 26.454545 | O4: =G4+K4 -> 1.1396104
C5: Grundschule | D5: 21725 | E5: 1115 | F5: 36912.075 | G5: 1556.106 | H5: 4853 | I5: 225 | J5: 8026 | K5: 332.59702 | L5: =D5+H5 -> 26578 | M5: =E5+I5 -> 1340 | N5: =F5+J5 -> 44938.075 | O5: =G5+K5 -> 1888.703
C6: Primarbereich | D6: =SUM(D4,D5) -> 21743 | E6: =SUM(E4,E5) -> 1116 | F6: =SUM(F4,F5) -> 36938.53 | G6: =SUM(G4,G5) -> 1557.2456 | H6: =SUM(H4,H5) -> 4853 | I6: =SUM(I4,I5) -> 225 | J6: =SUM(J4,J5) -> 8026 | K6: =SUM(K4,K5) -> 332.59702 | L6: =D6+H6 -> 26596 | M6: =E6+I6 -> 1341 | N6: =F6+J6 -> 44964.53 | O6: =G6+K6 -> 1889.8426
C7: Oberschule Sekundarbereich I | D7: 21950 | E7: 1061 | F7: 49048.653 | G7: 2039.2596 | H7: 6109 | I7: 284 | J7: 11431.25 | K7: 479.17593 | L7: =D7+H7 -> 28059 | M7: =E7+I7 -> 1345 | N7: =F7+J7 -> 60479.903 | O7: =G7+K7 -> 2518.4355
C8: Gymnasium Sekundarbereich I | D8: 5467 | E8: 209 | F8: 7903.9085 | G8: 337.21804 | H8: 539 | I8: 22 | J8: 764.05336 | K8: 35.787047 | L8: =D8+H8 -> 6006 | M8: =E8+I8 -> 231 | N8: =F8+J8 -> 8667.9619 | O8: =G8+K8 -> 373.00509
C9: Werkschule | D9: 360 | E9: 30 | F9: 764.75349 | G9: 31.311518 | H9: 136 | I9: 18 | J9: 235.96042 | K9: 9.8689534 | L9: =D9+H9 -> 496 | M9: =E9+I9 -> 48 | N9: =F9+J9 -> 1000.7139 | O9: =G9+K9 -> 41.180471
C10: Sekundarbereich I | D10: =SUM(D7:D9) -> 27777 | E10: =SUM(E7:E9) -> 1300 | F10: =SUM(F7:F9) -> 57717.315 | G10: =SUM(G7:G9) -> 2407.7891 | H10: =SUM(H7:H9) -> 6784 | I10: =SUM(I7:I9) -> 324 | J10: =SUM(J7:J9) -> 12431.264 | K10: =SUM(K7:K9) -> 524.83193 | L10: =D10+H10 -> 34561 | M10: =E10+I10 -> 1624 | N10: =F10+J10 -> 70148.579 | O10: =G10+K10 -> 2932.6211
C11: Oberschule Sekundarbereich II | D11: 3403 | F11: 6017.7612 | G11: 275.68038 | H11: 1069 | J11: 1673 | K11: 79.4352 | L11: =D11+H11 -> 4472 | N11: =F11+J11 -> 7690.7612 | O11: =G11+K11 -> 355.11558
C12: Gymnasium Sekundarbereich II | D12: 2736 | F12: 4766.6715 | G12: 214.74771 | H12: 398 | J12: 649.94664 | K12: 31.969989 | L12: =D12+H12 -> 3134 | N12: =F12+J12 -> 5416.6181 | O12: =G12+K12 -> 246.7177
C13: Sekundarbereich II | D13: =SUM(D11:D12) -> 6139 | F13: =SUM(F11:F12) -> 10784.433 | G13: =SUM(G11:G12) -> 490.42809 | H13: =SUM(H11:H12) -> 1467 | J13: =SUM(J11:J12) -> 2322.9466 | K13: =SUM(K11:K12) -> 111.40519 | L13: =D13+H13 -> 7606 | N13: =F13+J13 -> 13107.379 | O13: =G13+K13 -> 601.83328
C14: Förderzentren | D14: 340 | E14: 58 | F14: 2689.5 | G14: 132.53704 | H14: 0 | I14: 0 | J14: 0 | K14: 0 | L14: =D14+H14 -> 340 | M14: =E14+I14 -> 58 | N14: =F14+J14 -> 2689.5 | O14: =G14+K14 -> 132.53704
C15: Schule für Kranke | F15: 0 | G15: 0 | J15: 0 | K15: 0 | N15: =F15+J15 -> 0 | O15: =G15+K15 -> 0
C16: Erwachsenenschule | D16: 597 | F16: 1040 | G16: 47.706561 | H16: 60 | J16: 154 | K16: 8.1768889 | L16: =D16+H16 -> 657 | N16: =F16+J16 -> 1194 | O16: =G16+K16 -> 55.88345
C17: allgemeinbildende Schularten | D17: =D6+D10+D13+D14+D16+D15 -> 56596 | F17: =F6+F10+F13+F14+F16+F15 -> 109169.78 | G17: =G6+G10+G13+G14+G16+G15 -> 4635.7064 | H17: =H6+H10+H13+H14+H16+H15 -> 13164 | J17: =J6+J10+J13+J14+J16+J15 -> 22934.21 | K17: =K6+K10+K13+K14+K16+K15 -> 977.01103 | L17: =D17+H17 -> 69760 | N17: =F17+J17 -> 132103.99 | O17: =G17+K17 -> 5612.7175
C18: Berufsfachschule Teilzeit | D18: 58 | E18: 5 | F18: 85.607048 | G18: 4.2372384 | H18: 12 | I18: 1 | J18: 5.5704846 | K18: 0.4014978 | L18: =D18+H18 -> 70 | M18: =E18+I18 -> 6 | N18: =F18+J18 -> 91.177533 | O18: =G18+K18 -> 4.6387362
C19: Berufsfachschule Vollzeit | D19: 1791 | E19: 103 | F19: 3993.3742 | G19: 175.56092 | H19: 557 | I19: 33 | J19: 1070.8895 | K19: 48.657844 | L19: =D19+H19 -> 2348 | M19: =E19+I19 -> 136 | N19: =F19+J19 -> 5064.2637 | O19: =G19+K19 -> 224.21877
C20: Berufsoberschule Vollzeit | D20: 33 | E20: 2 | F20: 87.184951 | G20: 3.6296111 | H20: 4 | I20: 1 | J20: 3.2248354 | K20: 0.15774224 | L20: =D20+H20 -> 37 | M20: =E20+I20 -> 3 | N20: =F20+J20 -> 90.409786 | O20: =G20+K20 -> 3.7873533
C21: Berufsvorbereitungsjahr Teilzeit | D21: 503 | E21: 30 | F21: 421.07508 | G21: 22.07535 | H21: 147 | I21: 12 | J21: 147.17313 | K21: 7.1681995 | L21: =D21+H21 -> 650 | M21: =E21+I21 -> 42 | N21: =F21+J21 -> 568.24821 | O21: =G21+K21 -> 29.243549
C22: Berufsvorbereitungsjahr Vollzeit | D22: 1530 | E22: 133 | F22: 3817.768 | G22: 167.58949 | H22: 305 | I22: 30 | J22: 693.45918 | K22: 30.939036 | L22: =D22+H22 -> 1835 | M22: =E22+I22 -> 163 | N22: =F22+J22 -> 4511.2272 | O22: =G22+K22 -> 198.52852
C23: Fachgymnasium | D23: 733 | E23: 39 | F23: 1708.1688 | G23: 74.748569 | H23: 210 | I23: 12 | J23: 450.13516 | K23: 20.074717 | L23: =D23+H23 -> 943 | M23: =E23+I23 -> 51 | N23: =F23+J23 -> 2158.3039 | O23: =G23+K23 -> 94.823286
C24: Fachoberschule Teilzeit | D24: 148 | E24: 7 | F24: 126.74685 | G24: 6.6937652 | H24: 60 | I24: 3 | J24: 32.956444 | K24: 2.1192179 | L24: =D24+H24 -> 208 | M24: =E24+I24 -> 10 | N24: =F24+J24 -> 159.70329 | O24: =G24+K24 -> 8.8129831
C25: Fachoberschule Vollzeit | D25: 594 | E25: 29 | F25: 1009.9526 | G25: 45.325039 | H25: 132 | I25: 10 | J25: 228.62982 | K25: 10.299213 | L25: =D25+H25 -> 726 | M25: =E25+I25 -> 39 | N25: =F25+J25 -> 1238.5824 | O25: =G25+K25 -> 55.624251
C26: Fachschule Teilzeit | D26: 280 | E26: 14 | F26: 275.61258 | G26: 14.870212 | H26: 74 | I26: 6 | J26: 31.434655 | K26: 2.3592364 | L26: =D26+H26 -> 354 | M26: =E26+I26 -> 20 | N26: =F26+J26 -> 307.04724 | O26: =G26+K26 -> 17.229448
C27: Fachschule Vollzeit | D27: 290 | E27: 16 | F27: 535.61358 | G27: 25.60386 | H27: 139 | I27: 9 | J27: 298.21645 | K27: 13.99835 | L27: =D27+H27 -> 429 | M27: =E27+I27 -> 25 | N27: =F27+J27 -> 833.83003 | O27: =G27+K27 -> 39.60221
C28: Teilzeit-Berufschule | D28: 11796 | E28: 612 | F28: 7471.1048 | G28: 367.34824 | H28: 2909 | I28: 181 | J28: 2194.6099 | K28: 108.98688 | L28: =D28+H28 -> 14705 | M28: =E28+I28 -> 793 | N28: =F28+J28 -> 9665.7147 | O28: =G28+K28 -> 476.33512
C29: berufsbildende Schularten | D29: =SUM(D18:D28) -> 17756 | E29: =SUM(E18:E28) -> 990 | F29: =SUM(F18:F28) -> 19532.209 | G29: =SUM(G18:G28) -> 907.68229 | H29: =SUM(H18:H28) -> 4549 | I29: =SUM(I18:I28) -> 298 | J29: =SUM(J18:J28) -> 5156.2996 | K29: =SUM(K18:K28) -> 245.16193 | L29: =D29+H29 -> 22305 | M29: =E29+I29 -> 1288 | N29: =F29+J29 -> 24688.508 | O29: =G29+K29 -> 1152.8442
C30: alle Schularten | D30: =D17+D29 -> 74352 | F30: =F17+F29 -> 128701.99 | G30: =G17+G29 -> 5543.3887 | H30: =H17+H29 -> 17713 | J30: =J17+J29 -> 28090.51 | K30: =K17+K29 -> 1222.173 | L30: =D30+H30 -> 92065 | N30: =F30+J30 -> 156792.5 | O30: =G30+K30 -> 6765.5617
B31: private Schulen | C31: Grundschule | D31: 1125 | E31: 51 | F31: 2081 | G31: 77.892857 | H31: 211 | I31: 11 | J31: 435 | K31: 16.857143 | L31: =D31+H31 -> 1336 | M31: =E31+I31 -> 62 | N31: =F31+J31 -> 2516 | O31: =G31+K31 -> 94.75
C32: Freie Waldorfschule | D32: 344 | E32: 12 | F32: 445 | G32: 16.392857 | H32: 0 | I32: 0 | J32: 0 | K32: 0 | L32: =D32+H32 -> 344 | M32: =E32+I32 -> 12 | N32: =F32+J32 -> 445 | O32: =G32+K32 -> 16.392857
C33: Primarbereich | D33: =SUM(D31,D32) -> 1469 | E33: =SUM(E31,E32) -> 63 | F33: =SUM(F31,F32) -> 2526 | G33: =SUM(G31,G32) -> 94.285714 | H33: =SUM(H31,H32) -> 211 | I33: =SUM(I31,I32) -> 11 | J33: =SUM(J31,J32) -> 435 | K33: =SUM(K31,K32) -> 16.857143 | L33: =D33+H33 -> 1680 | M33: =E33+I33 -> 74 | N33: =F33+J33 -> 2961 | O33: =G33+K33 -> 111.14286
C34: Oberschule, Gesamtschule Sekundarbereich I | D34: 1132 | E34: 59 | F34: 2201 | G34: 83.518519 | H34: 349 | I34: 17 | J34: 693 | K34: 29.148148 | L34: =D34+H34 -> 1481 | M34: =E34+I34 -> 76 | N34: =F34+J34 -> 2894 | O34: =G34+K34 -> 112.66667
C35: Gymnasium Sekundarbereich I | D35: 1106 | E35: 43 | F35: 1917 | G35: 77 | H35: 0 | I35: 0 | J35: 0 | K35: 0 | L35: =D35+H35 -> 1106 | M35: =E35+I35 -> 43 | N35: =F35+J35 -> 1917 | O35: =G35+K35 -> 77
C36: Freie Waldorfschule Sekundarbereich I | D36: 518 | E36: 18 | F36: 945 | G36: 36.333333 | H36: 0 | I36: 0 | J36: 0 | K36: 0 | L36: =D36+H36 -> 518 | M36: =E36+I36 -> 18 | N36: =F36+J36 -> 945 | O36: =G36+K36 -> 36.333333
C37: Sekundarbereich I | D37: =SUM(D34:D36) -> 2756 | E37: =SUM(E34:E36) -> 120 | F37: =SUM(F34:F36) -> 5063 | G37: =SUM(G34:G36) -> 196.85185 | H37: =SUM(H34:H36) -> 349 | I37: =SUM(I34:I36) -> 17 | J37: =SUM(J34:J36) -> 693 | K37: =SUM(K34:K36) -> 29.148148 | L37: =D37+H37 -> 3105 | M37: =E37+I37 -> 137 | N37: =F37+J37 -> 5756 | O37: =G37+K37 -> 226
C38: Oberschule, Gesamtschule Sekundarbereich II | D38: 78 | F38: 288 | G38: 11.52 | H38: 0 | J38: 0 | K38: 0 | L38: =D38+H38 -> 78 | N38: =F38+J38 -> 288 | O38: =G38+K38 -> 11.52
C39: Gymnasium Sekundarbereich II | D39: 831 | F39: 1509 | G39: 65.48 | H39: 0 | J39: 0 | K39: 0 | L39: =D39+H39 -> 831 | N39: =F39+J39 -> 1509 | O39: =G39+K39 -> 65.48
C40: Freie Waldorfschule Sekundarbereich II | D40: 188 | F40: 372 | G40: 15.32 | H40: 0 | J40: 0 | K40: 0 | L40: =D40+H40 -> 188 | N40: =F40+J40 -> 372 | O40: =G40+K40 -> 15.32
C41: Sekundarbereich II | D41: =SUM(D38:D40) -> 1097 | F41: =SUM(F38:F40) -> 2169 | G41: =SUM(G38:G40) -> 92.32 | H41: =SUM(H38:H40) -> 0 | J41: =SUM(J38:J40) -> 0 | K41: =SUM(K38:K40) -> 0 | L41: =D41+H41 -> 1097 | N41: =F41+J41 -> 2169 | O41: =G41+K41 -> 92.32
...

Sheet Relationen
B2: =Daten!B2 -> Schuljahr 2025/2026 | D2: Stadtgemeinde Bremen | H2: Stadtgemeinde Bremerhaven | L2: Land Bremen
D3: Schüler:in-Lehrkraft-Relation | E3: Klassen-frequenz | F3: Unterrichts-stunden je Klasse | G3: Unterrichts-stunden je Schüler:in | H3: Schüler:in-Lehrkraft-Relation | I3: Klassen-frequenz | J3: Unterrichts-stunden je Klasse | K3: Unterrichts-stunden je Schüler:in | L3: Schüler:in-Lehrkraft-Relation | M3: Klassen-frequenz | N3: Unterrichts-stunden je Klasse | O3: Unterrichts-stunden je Schüler:in
B4: öffentliche Schulen | C4: Vorklasse | D4: =IFERROR(Daten!D4/Daten!G4,"- ") -> 15.794872 | E4: =IFERROR(Daten!D4/Daten!E4,"- ") -> 18 | F4: =IFERROR(Daten!F4/Daten!E4,"- ") -> 26.454545 | G4: =IFERROR(Daten!F4/Daten!D4,"- ") -> 1.469697 | H4: =IFERROR(Daten!H4/Daten!K4,"- ") -> - | I4: =IFERROR(Daten!H4/Daten!I4,"- ") -> - | J4: =IFERROR(Daten!J4/Daten!I4,"- ") -> - | K4: =IFERROR(Daten!J4/Daten!H4,"- ") -> - | L4: =IFERROR(Daten!L4/Daten!O4,"- ") -> 15.794872 | M4: =IFERROR(Daten!L4/Daten!M4,"- ") -> 18 | N4: =IFERROR(Daten!N4/Daten!M4,"- ") -> 26.454545 | O4: =IFERROR(Daten!N4/Daten!L4,"- ") -> 1.469697
C5: Grundschule | D5: =IFERROR(Daten!D5/Daten!G5,"- ") -> 13.961131 | E5: =IFERROR(Daten!D5/Daten!E5,"- ") -> 19.484305 | F5: =IFERROR(Daten!F5/Daten!E5,"- ") -> 33.105 | G5: =IFERROR(Daten!F5/Daten!D5,"- ") -> 1.6990599 | H5: =IFERROR(Daten!H5/Daten!K5,"- ") -> 14.591231 | I5: =IFERROR(Daten!H5/Daten!I5,"- ") -> 21.568889 | J5: =IFERROR(Daten!J5/Daten!I5,"- ") -> 35.671111 | K5: =IFERROR(Daten!J5/Daten!H5,"- ") -> 1.6538224 | L5: =IFERROR(Daten!L5/Daten!O5,"- ") -> 14.07209 | M5: =IFERROR(Daten!L5/Daten!M5,"- ") -> 19.834328 | N5: =IFERROR(Daten!N5/Daten!M5,"- ") -> 33.535877 | O5: =IFERROR(Daten!N5/Daten!L5,"- ") -> 1.6907997
C6: Primarbereich | D6: =IFERROR(Daten!D6/Daten!G6,"- ") -> 13.962473 | E6: =IFERROR(Daten!D6/Daten!E6,"- ") -> 19.482975 | F6: =IFERROR(Daten!F6/Daten!E6,"- ") -> 33.099041 | G6: =IFERROR(Daten!F6/Daten!D6,"- ") -> 1.69887 | H6: =IFERROR(Daten!H6/Daten!K6,"- ") -> 14.591231 | I6: =IFERROR(Daten!H6/Daten!I6,"- ") -> 21.568889 | J6: =IFERROR(Daten!J6/Daten!I6,"- ") -> 35.671111 | K6: =IFERROR(Daten!J6/Daten!H6,"- ") -> 1.6538224 | L6: =IFERROR(Daten!L6/Daten!O6,"- ") -> 14.073129 | M6: =IFERROR(Daten!L6/Daten!M6,"- ") -> 19.83296 | N6: =IFERROR(Daten!N6/Daten!M6,"- ") -> 33.530597 | O6: =IFERROR(Daten!N6/Daten!L6,"- ") -> 1.6906501
C7: Oberschule Sekundarbereich I | D7: =IFERROR(Daten!D7/Daten!G7,"- ") -> 10.763711 | E7: =IFERROR(Daten!D7/Daten!E7,"- ") -> 20.68803 | F7: =IFERROR(Daten!F7/Daten!E7,"- ") -> 46.228702 | G7: =IFERROR(Daten!F7/Daten!D7,"- ") -> 2.2345628 | H7: =IFERROR(Daten!H7/Daten!K7,"- ") -> 12.748971 | I7: =IFERROR(Daten!H7/Daten!I7,"- ") -> 21.510563 | J7: =IFERROR(Daten!J7/Daten!I7,"- ") -> 40.25088 | K7: =IFERROR(Daten!J7/Daten!H7,"- ") -> 1.8712146 | L7: =IFERROR(Daten!L7/Daten!O7,"- ") -> 11.141441 | M7: =IFERROR(Daten!L7/Daten!M7,"- ") -> 20.86171 | N7: =IFERROR(Daten!N7/Daten!M7,"- ") -> 44.966471 | O7: =IFERROR(Daten!N7/Daten!L7,"- ") -> 2.1554547
C8: Gymnasium Sekundarbereich I | D8: =IFERROR(Daten!D8/Daten!G8,"- ") -> 16.212062 | E8: =IFERROR(Daten!D8/Daten!E8,"- ") -> 26.157895 | F8: =IFERROR(Daten!F8/Daten!E8,"- ") -> 37.817744 | G8: =IFERROR(Daten!F8/Daten!D8,"- ") -> 1.4457488 | H8: =IFERROR(Daten!H8/Daten!K8,"- ") -> 15.061315 | I8: =IFERROR(Daten!H8/Daten!I8,"- ") -> 24.5 | J8: =IFERROR(Daten!J8/Daten!I8,"- ") -> 34.729698 | K8: =IFERROR(Daten!J8/Daten!H8,"- ") -> 1.4175387 | L8: =IFERROR(Daten!L8/Daten!O8,"- ") -> 16.101657 | M8: =IFERROR(Daten!L8/Daten!M8,"- ") -> 26 | N8: =IFERROR(Daten!N8/Daten!M8,"- ") -> 37.523644 | O8: =IFERROR(Daten!N8/Daten!L8,"- ") -> 1.4432171
C9: Werkschule | D9: =IFERROR(Daten!D9/Daten!G9,"- ") -> 11.497367 | E9: =IFERROR(Daten!D9/Daten!E9,"- ") -> 12 | F9: =IFERROR(Daten!F9/Daten!E9,"- ") -> 25.491783 | G9: =IFERROR(Daten!F9/Daten!D9,"- ") -> 2.1243153 | H9: =IFERROR(Daten!H9/Daten!K9,"- ") -> 13.78059 | I9: =IFERROR(Daten!H9/Daten!I9,"- ") -> 7.5555556 | J9: =IFERROR(Daten!J9/Daten!I9,"- ") -> 13.108912 | K9: =IFERROR(Daten!J9/Daten!H9,"- ") -> 1.7350031 | L9: =IFERROR(Daten!L9/Daten!O9,"- ") -> 12.044544 | M9: =IFERROR(Daten!L9/Daten!M9,"- ") -> 10.333333 | N9: =IFERROR(Daten!N9/Daten!M9,"- ") -> 20.848207 | O9: =IFERROR(Daten!N9/Daten!L9,"- ") -> 2.0175684
C10: Sekundarbereich I | D10: =IFERROR(Daten!D10/Daten!G10,"- ") -> 11.536309 | E10: =IFERROR(Daten!D10/Daten!E10,"- ") -> 21.366923 | F10: =IFERROR(Daten!F10/Daten!E10,"- ") -> 44.397935 | G10: =IFERROR(Daten!F10/Daten!D10,"- ") -> 2.0778815 | H10: =IFERROR(Daten!H10/Daten!K10,"- ") -> 12.926043 | I10: =IFERROR(Daten!H10/Daten!I10,"- ") -> 20.938272 | J10: =IFERROR(Daten!J10/Daten!I10,"- ") -> 38.368098 | K10: =IFERROR(Daten!J10/Daten!H10,"- ") -> 1.8324387 | L10: =IFERROR(Daten!L10/Daten!O10,"- ") -> 11.785021 | M10: =IFERROR(Daten!L10/Daten!M10,"- ") -> 21.281404 | N10: =IFERROR(Daten!N10/Daten!M10,"- ") -> 43.194938 | O10: =IFERROR(Daten!N10/Daten!L10,"- ") -> 2.0297034
C11: Oberschule Sekundarbereich II | D11: =IFERROR(Daten!D11/Daten!G11,"- ") -> 12.344005 | G11: =IFERROR(Daten!F11/Daten!D11,"- ") -> 1.7683694 | H11: =IFERROR(Daten!H11/Daten!K11,"- ") -> 13.45751 | K11: =IFERROR(Daten!J11/Daten!H11,"- ") -> 1.565014 | L11: =IFERROR(Daten!L11/Daten!O11,"- ") -> 12.593083 | O11: =IFERROR(Daten!N11/Daten!L11,"- ") -> 1.7197588
C12: Gymnasium Sekundarbereich II | D12: =IFERROR(Daten!D12/Daten!G12,"- ") -> 12.740532 | G12: =IFERROR(Daten!F12/Daten!D12,"- ") -> 1.7422045 | H12: =IFERROR(Daten!H12/Daten!K12,"- ") -> 12.449175 | K12: =IFERROR(Daten!J12/Daten!H12,"- ") -> 1.6330318 | L12: =IFERROR(Daten!L12/Daten!O12,"- ") -> 12.702777 | O12: =IFERROR(Daten!N12/Daten!L12,"- ") -> 1.7283402
C13: Sekundarbereich II | D13: =IFERROR(Daten!D13/Daten!G13,"- ") -> 12.517635 | G13: =IFERROR(Daten!F13/Daten!D13,"- ") -> 1.7567084 | H13: =IFERROR(Daten!H13/Daten!K13,"- ") -> 13.168148 | K13: =IFERROR(Daten!J13/Daten!H13,"- ") -> 1.5834674 | L13: =IFERROR(Daten!L13/Daten!O13,"- ") -> 12.638051 | O13: =IFERROR(Daten!N13/Daten!L13,"- ") -> 1.7232947
C14: Förderzentren | D14: =IFERROR(Daten!D14/Daten!G14,"- ") -> 2.5653207 | E14: =IFERROR(Daten!D14/Daten!E14,"- ") -> 5.862069 | F14: =IFERROR(Daten!F14/Daten!E14,"- ") -> 46.37069 | G14: =IFERROR(Daten!F14/Daten!D14,"- ") -> 7.9102941 | H14: =IFERROR(Daten!H14/Daten!K14,"- ") -> - | I14: =IFERROR(Daten!H14/Daten!I14,"- ") -> - | J14: =IFERROR(Daten!J14/Daten!I14,"- ") -> - | K14: =IFERROR(Daten!J14/Daten!H14,"- ") -> - | L14: =IFERROR(Daten!L14/Daten!O14,"- ") -> 2.5653207 | M14: =IFERROR(Daten!L14/Daten!M14,"- ") -> 5.862069 | N14: =IFERROR(Daten!N14/Daten!M14,"- ") -> 46.37069 | O14: =IFERROR(Daten!N14/Daten!L14,"- ") -> 7.9102941
C15: Schule für Kranke
C16: Erwachsenenschule | D16: =IFERROR(Daten!D16/Daten!G16,"- ") -> 12.514002 | G16: =IFERROR(Daten!F16/Daten!D16,"- ") -> 1.7420436 | H16: =IFERROR(Daten!H16/Daten!K16,"- ") -> 7.3377541 | K16: =IFERROR(Daten!J16/Daten!H16,"- ") -> 2.5666667 | L16: =IFERROR(Daten!L16/Daten!O16,"- ") -> 11.756611 | O16: =IFERROR(Daten!N16/Daten!L16,"- ") -> 1.8173516
C17: allgemeinbildende Schularten | D17: =IFERROR(Daten!D17/Daten!G17,"- ") -> 12.208711 | G17: =IFERROR(Daten!F17/Daten!D17,"- ") -> 1.928931 | H17: =IFERROR(Daten!H17/Daten!K17,"- ") -> 13.473748 | K17: =IFERROR(Daten!J17/Daten!H17,"- ") -> 1.7421916 | L17: =IFERROR(Daten!L17/Daten!O17,"- ") -> 12.428917 | M17: =IFERROR(Daten!L17/Daten!M17,"- ") -> - | N17: =IFERROR(Daten!N17/Daten!M17,"- ") -> - | O17: =IFERROR(Daten!N17/Daten!L17,"- ") -> 1.8936925
C18: Berufsfachschule Teilzeit | D18: =IFERROR(Daten!D18/Daten!G18,"- ") -> 13.688161 | E18: =IFERROR(Daten!D18/Daten!E18,"- ") -> 11.6 | F18: =IFERROR(Daten!F18/Daten!E18,"- ") -> 17.12141 | G18: =IFERROR(Daten!F18/Daten!D18,"- ") -> 1.4759836 | H18: =IFERROR(Daten!H18/Daten!K18,"- ") -> 29.888084 | I18: =IFERROR(Daten!H18/Daten!I18,"- ") -> 12 | J18: =IFERROR(Daten!J18/Daten!I18,"- ") -> 5.5704846 | K18: =IFERROR(Daten!J18/Daten!H18,"- ") -> 0.46420705 | L18: =IFERROR(Daten!L18/Daten!O18,"- ") -> 15.090317 | M18: =IFERROR(Daten!L18/Daten!M18,"- ") -> 11.666667 | N18: =IFERROR(Daten!N18/Daten!M18,"- ") -> 15.196255 | O18: =IFERROR(Daten!N18/Daten!L18,"- ") -> 1.3025362
C19: Berufsfachschule Vollzeit | D19: =IFERROR(Daten!D19/Daten!G19,"- ") -> 10.201587 | E19: =IFERROR(Daten!D19/Daten!E19,"- ") -> 17.38835 | F19: =IFERROR(Daten!F19/Daten!E19,"- ") -> 38.770623 | G19: =IFERROR(Daten!F19/Daten!D19,"- ") -> 2.2296897 | H19: =IFERROR(Daten!H19/Daten!K19,"- ") -> 11.447281 | I19: =IFERROR(Daten!H19/Daten!I19,"- ") -> 16.878788 | J19: =IFERROR(Daten!J19/Daten!I19,"- ") -> 32.451198 | K19: =IFERROR(Daten!J19/Daten!H19,"- ") -> 1.9226024 | L19: =IFERROR(Daten!L19/Daten!O19,"- ") -> 10.471916 | M19: =IFERROR(Daten!L19/Daten!M19,"- ") -> 17.264706 | N19: =IFERROR(Daten!N19/Daten!M19,"- ") -> 37.237233 | O19: =IFERROR(Daten!N19/Daten!L19,"- ") -> 2.1568415
C20: Berufsoberschule Vollzeit | D20: =IFERROR(Daten!D20/Daten!G20,"- ") -> 9.0918831 | E20: =IFERROR(Daten!D20/Daten!E20,"- ") -> 16.5 | F20: =IFERROR(Daten!F20/Daten!E20,"- ") -> 43.592475 | G20: =IFERROR(Daten!F20/Daten!D20,"- ") -> 2.6419682 | H20: =IFERROR(Daten!H20/Daten!K20,"- ") -> 25.357824 | I20: =IFERROR(Daten!H20/Daten!I20,"- ") -> 4 | J20: =IFERROR(Daten!J20/Daten!I20,"- ") -> 3.2248354 | K20: =IFERROR(Daten!J20/Daten!H20,"- ") -> 0.80620884 | L20: =IFERROR(Daten!L20/Daten!O20,"- ") -> 9.7693552 | M20: =IFERROR(Daten!L20/Daten!M20,"- ") -> 12.333333 | N20: =IFERROR(Daten!N20/Daten!M20,"- ") -> 30.136595 | O20: =IFERROR(Daten!N20/Daten!L20,"- ") -> 2.4435077
C21: Berufsvorbereitungsjahr Teilzeit | D21: =IFERROR(Daten!D21/Daten!G21,"- ") -> 22.785596 | E21: =IFERROR(Daten!D21/Daten!E21,"- ") -> 16.766667 | F21: =IFERROR(Daten!F21/Daten!E21,"- ") -> 14.035836 | G21: =IFERROR(Daten!F21/Daten!D21,"- ") -> 0.8371274 | H21: =IFERROR(Daten!H21/Daten!K21,"- ") -> 20.507242 | I21: =IFERROR(Daten!H21/Daten!I21,"- ") -> 12.25 | J21: =IFERROR(Daten!J21/Daten!I21,"- ") -> 12.264427 | K21: =IFERROR(Daten!J21/Daten!H21,"- ") -> 1.0011778 | L21: =IFERROR(Daten!L21/Daten!O21,"- ") -> 22.227124 | M21: =IFERROR(Daten!L21/Daten!M21,"- ") -> 15.47619 | N21: =IFERROR(Daten!N21/Daten!M21,"- ") -> 13.529719 | O21: =IFERROR(Daten!N21/Daten!L21,"- ") -> 0.87422802
C22: Berufsvorbereitungsjahr Vollzeit | D22: =IFERROR(Daten!D22/Daten!G22,"- ") -> 9.1294509 | E22: =IFERROR(Daten!D22/Daten!E22,"- ") -> 11.503759 | F22: =IFERROR(Daten!F22/Daten!E22,"- ") -> 28.705023 | G22: =IFERROR(Daten!F22/Daten!D22,"- ") -> 2.4952732 | H22: =IFERROR(Daten!H22/Daten!K22,"- ") -> 9.8580965 | I22: =IFERROR(Daten!H22/Daten!I22,"- ") -> 10.166667 | J22: =IFERROR(Daten!J22/Daten!I22,"- ") -> 23.115306 | K22: =IFERROR(Daten!J22/Daten!H22,"- ") -> 2.2736367 | L22: =IFERROR(Daten!L22/Daten!O22,"- ") -> 9.2430043 | M22: =IFERROR(Daten!L22/Daten!M22,"- ") -> 11.257669 | N22: =IFERROR(Daten!N22/Daten!M22,"- ") -> 27.67624 | O22: =IFERROR(Daten!N22/Daten!L22,"- ") -> 2.4584344
C23: Fachgymnasium | D23: =IFERROR(Daten!D23/Daten!G23,"- ") -> 9.8062077 | E23: =IFERROR(Daten!D23/Daten!E23,"- ") -> 18.794872 | F23: =IFERROR(Daten!F23/Daten!E23,"- ") -> 43.7992 | G23: =IFERROR(Daten!F23/Daten!D23,"- ") -> 2.3303803 | H23: =IFERROR(Daten!H23/Daten!K23,"- ") -> 10.46092 | I23: =IFERROR(Daten!H23/Daten!I23,"- ") -> 17.5 | J23: =IFERROR(Daten!J23/Daten!I23,"- ") -> 37.511264 | K23: =IFERROR(Daten!J23/Daten!H23,"- ") -> 2.1435008 | L23: =IFERROR(Daten!L23/Daten!O23,"- ") -> 9.9448146 | M23: =IFERROR(Daten!L23/Daten!M23,"- ") -> 18.490196 | N23: =IFERROR(Daten!N23/Daten!M23,"- ") -> 42.319685 | O23: =IFERROR(Daten!N23/Daten!L23,"- ") -> 2.2887635
C24: Fachoberschule Teilzeit | D24: =IFERROR(Daten!D24/Daten!G24,"- ") -> 22.110127 | E24: =IFERROR(Daten!D24/Daten!E24,"- ") -> 21.142857 | F24: =IFERROR(Daten!F24/Daten!E24,"- ") -> 18.106692 | G24: =IFERROR(Daten!F24/Daten!D24,"- ") -> 0.85639761 | H24: =IFERROR(Daten!H24/Daten!K24,"- ") -> 28.312332 | I24: =IFERROR(Daten!H24/Daten!I24,"- ") -> 20 | J24: =IFERROR(Daten!J24/Daten!I24,"- ") -> 10.985481 | K24: =IFERROR(Daten!J24/Daten!H24,"- ") -> 0.54927407 | L24: =IFERROR(Daten!L24/Daten!O24,"- ") -> 23.601543 | M24: =IFERROR(Daten!L24/Daten!M24,"- ") -> 20.8 | N24: =IFERROR(Daten!N24/Daten!M24,"- ") -> 15.970329 | O24: =IFERROR(Daten!N24/Daten!L24,"- ") -> 0.76780428
C25: Fachoberschule Vollzeit | D25: =IFERROR(Daten!D25/Daten!G25,"- ") -> 13.105339 | E25: =IFERROR(Daten!D25/Daten!E25,"- ") -> 20.482759 | F25: =IFERROR(Daten!F25/Daten!E25,"- ") -> 34.825951 | G25: =IFERROR(Daten!F25/Daten!D25,"- ") -> 1.7002569 | H25: =IFERROR(Daten!H25/Daten!K25,"- ") -> 12.816513 | I25: =IFERROR(Daten!H25/Daten!I25,"- ") -> 13.2 | J25: =IFERROR(Daten!J25/Daten!I25,"- ") -> 22.862982 | K25: =IFERROR(Daten!J25/Daten!H25,"- ") -> 1.7320441 | L25: =IFERROR(Daten!L25/Daten!O25,"- ") -> 13.051861 | M25: =IFERROR(Daten!L25/Daten!M25,"- ") -> 18.615385 | N25: =IFERROR(Daten!N25/Daten!M25,"- ") -> 31.758523 | O25: =IFERROR(Daten!N25/Daten!L25,"- ") -> 1.7060364
C26: Fachschule Teilzeit | D26: =IFERROR(Daten!D26/Daten!G26,"- ") -> 18.829591 | E26: =IFERROR(Daten!D26/Daten!E26,"- ") -> 20 | F26: =IFERROR(Daten!F26/Daten!E26,"- ") -> 19.686613 | G26: =IFERROR(Daten!F26/Daten!D26,"- ") -> 0.98433065 | H26: =IFERROR(Daten!H26/Daten!K26,"- ") -> 31.366081 | I26: =IFERROR(Daten!H26/Daten!I26,"- ") -> 12.333333 | J26: =IFERROR(Daten!J26/Daten!I26,"- ") -> 5.2391092 | K26: =IFERROR(Daten!J26/Daten!H26,"- ") -> 0.42479263 | L26: =IFERROR(Daten!L26/Daten!O26,"- ") -> 20.546218 | M26: =IFERROR(Daten!L26/Daten!M26,"- ") -> 17.7 | N26: =IFERROR(Daten!N26/Daten!M26,"- ") -> 15.352362 | O26: =IFERROR(Daten!N26/Daten!L26,"- ") -> 0.86736507
C27: Fachschule Vollzeit | D27: =IFERROR(Daten!D27/Daten!G27,"- ") -> 11.326417 | E27: =IFERROR(Daten!D27/Daten!E27,"- ") -> 18.125 | F27: =IFERROR(Daten!F27/Daten!E27,"- ") -> 33.475849 | G27: =IFERROR(Daten!F27/Daten!D27,"- ") -> 1.8469434 | H27: =IFERROR(Daten!H27/Daten!K27,"- ") -> 9.9297421 | I27: =IFERROR(Daten!H27/Daten!I27,"- ") -> 15.444444 | J27: =IFERROR(Daten!J27/Daten!I27,"- ") -> 33.135161 | K27: =IFERROR(Daten!J27/Daten!H27,"- ") -> 2.1454421 | L27: =IFERROR(Daten!L27/Daten!O27,"- ") -> 10.832729 | M27: =IFERROR(Daten!L27/Daten!M27,"- ") -> 17.16 | N27: =IFERROR(Daten!N27/Daten!M27,"- ") -> 33.353201 | O27: =IFERROR(Daten!N27/Daten!L27,"- ") -> 1.9436597
C28: Teilzeit-Berufschule | D28: =IFERROR(Daten!D28/Daten!G28,"- ") -> 32.111219 | E28: =IFERROR(Daten!D28/Daten!E28,"- ") -> 19.27451 | F28: =IFERROR(Daten!F28/Daten!E28,"- ") -> 12.207688 | G28: =IFERROR(Daten!F28/Daten!D28,"- ") -> 0.63335918 | H28: =IFERROR(Daten!H28/Daten!K28,"- ") -> 26.691287 | I28: =IFERROR(Daten!H28/Daten!I28,"- ") -> 16.071823 | J28: =IFERROR(Daten!J28/Daten!I28,"- ") -> 12.124917 | K28: =IFERROR(Daten!J28/Daten!H28,"- ") -> 0.75442073 | L28: =IFERROR(Daten!L28/Daten!O28,"- ") -> 30.871123 | M28: =IFERROR(Daten!L28/Daten!M28,"- ") -> 18.543506 | N28: =IFERROR(Daten!N28/Daten!M28,"- ") -> 12.188795 | O28: =IFERROR(Daten!N28/Daten!L28,"- ") -> 0.65730804
C29: berufsbildende Schularten | D29: =IFERROR(Daten!D29/Daten!G29,"- ") -> 19.561911 | E29: =IFERROR(Daten!D29/Daten!E29,"- ") -> 17.935354 | F29: =IFERROR(Daten!F29/Daten!E29,"- ") -> 19.729504 | G29: =IFERROR(Daten!F29/Daten!D29,"- ") -> 1.1000343 | H29: =IFERROR(Daten!H29/Daten!K29,"- ") -> 18.555083 | I29: =IFERROR(Daten!H29/Daten!I29,"- ") -> 15.265101 | J29: =IFERROR(Daten!J29/Daten!I29,"- ") -> 17.303019 | K29: =IFERROR(Daten!J29/Daten!H29,"- ") -> 1.1335018 | L29: =IFERROR(Daten!L29/Daten!O29,"- ") -> 19.3478 | M29: =IFERROR(Daten!L29/Daten!M29,"- ") -> 17.317547 | N29: =IFERROR(Daten!N29/Daten!M29,"- ") -> 19.168096 | O29: =IFERROR(Daten!N29/Daten!L29,"- ") -> 1.1068598
C30: alle Schularten | D30: =IFERROR(Daten!D30/Daten!G30,"- ") -> 13.412734 | G30: =IFERROR(Daten!F30/Daten!D30,"- ") -> 1.7309822 | H30: =IFERROR(Daten!H30/Daten!K30,"- ") -> 14.493039 | K30: =IFERROR(Daten!J30/Daten!H30,"- ") -> 1.5858697 | L30: =IFERROR(Daten!L30/Daten!O30,"- ") -> 13.607887 | O30: =IFERROR(Daten!N30/Daten!L30,"- ") -> 1.703063
B31: private Schulen | C31: Grundschule | D31: =IFERROR(Daten!D31/Daten!G31,"- ") -> 14.442916 | E31: =IFERROR(Daten!D31/Daten!E31,"- ") -> 22.058824 | F31: =IFERROR(Daten!F31/Daten!E31,"- ") -> 40.803922 | G31: =IFERROR(Daten!F31/Daten!D31,"- ") -> 1.8497778 | H31: =IFERROR(Daten!H31/Daten!K31,"- ") -> 12.516949 | I31: =IFERROR(Daten!H31/Daten!I31,"- ") -> 19.181818 | J31: =IFERROR(Daten!J31/Daten!I31,"- ") -> 39.545455 | K31: =IFERROR(Daten!J31/Daten!H31,"- ") -> 2.0616114 | L31: =IFERROR(Daten!L31/Daten!O31,"- ") -> 14.100264 | M31: =IFERROR(Daten!L31/Daten!M31,"- ") -> 21.548387 | N31: =IFERROR(Daten!N31/Daten!M31,"- ") -> 40.580645 | O31: =IFERROR(Daten!N31/Daten!L31,"- ") -> 1.8832335
C32: Freie Waldorfschule | D32: =IFERROR(Daten!D32/Daten!G32,"- ") -> 20.984749 | E32: =IFERROR(Daten!D32/Daten!E32,"- ") -> 28.666667 | F32: =IFERROR(Daten!F32/Daten!E32,"- ") -> 37.083333 | G32: =IFERROR(Daten!F32/Daten!D32,"- ") -> 1.2936047 | H32: =IFERROR(Daten!H32/Daten!K32,"- ") -> - | I32: =IFERROR(Daten!H32/Daten!I32,"- ") -> - | J32: =IFERROR(Daten!J32/Daten!I32,"- ") -> - | K32: =IFERROR(Daten!J32/Daten!H32,"- ") -> - | L32: =IFERROR(Daten!L32/Daten!O32,"- ") -> 20.984749 | M32: =IFERROR(Daten!L32/Daten!M32,"- ") -> 28.666667 | N32: =IFERROR(Daten!N32/Daten!M32,"- ") -> 37.083333 | O32: =IFERROR(Daten!N32/Daten!L32,"- ") -> 1.2936047
C33: Primarbereich | D33: =IFERROR(Daten!D33/Daten!G33,"- ") -> 15.580303 | E33: =IFERROR(Daten!D33/Daten!E33,"- ") -> 23.31746 | F33: =IFERROR(Daten!F33/Daten!E33,"- ") -> 40.095238 | G33: =IFERROR(Daten!F33/Daten!D33,"- ") -> 1.7195371 | H33: =IFERROR(Daten!H33/Daten!K33,"- ") -> 12.516949 | I33: =IFERROR(Daten!H33/Daten!I33,"- ") -> 19.181818 | J33: =IFERROR(Daten!J33/Daten!I33,"- ") -> 39.545455 | K33: =IFERROR(Daten!J33/Daten!H33,"- ") -> 2.0616114 | L33: =IFERROR(Daten!L33/Daten!O33,"- ") -> 15.115681 | M33: =IFERROR(Daten!L33/Daten!M33,"- ") -> 22.702703 | N33: =IFERROR(Daten!N33/Daten!M33,"- ") -> 40.013514 | O33: =IFERROR(Daten!N33/Daten!L33,"- ") -> 1.7625
C34: Oberschule, Gesamtschule Sekundarbereich I | D34: =IFERROR(Daten!D34/Daten!G34,"- ") -> 13.55388 | E34: =IFERROR(Daten!D34/Daten!E34,"- ") -> 19.186441 | F34: =IFERROR(Daten!F34/Daten!E34,"- ") -> 37.305085 | G34: =IFERROR(Daten!F34/Daten!D34,"- ") -> 1.9443463 | H34: =IFERROR(Daten!H34/Daten!K34,"- ") -> 11.973316 | I34: =IFERROR(Daten!H34/Daten!I34,"- ") -> 20.529412 | J34: =IFERROR(Daten!J34/Daten!I34,"- ") -> 40.764706 | K34: =IFERROR(Daten!J34/Daten!H34,"- ") -> 1.9856734 | L34: =IFERROR(Daten!L34/Daten!O34,"- ") -> 13.14497 | M34: =IFERROR(Daten!L34/Daten!M34,"- ") -> 19.486842 | N34: =IFERROR(Daten!N34/Daten!M34,"- ") -> 38.078947 | O34: =IFERROR(Daten!N34/Daten!L34,"- ") -> 1.9540851
C35: Gymnasium Sekundarbereich I | D35: =IFERROR(Daten!D35/Daten!G35,"- ") -> 14.363636 | E35: =IFERROR(Daten!D35/Daten!E35,"- ") -> 25.72093 | F35: =IFERROR(Daten!F35/Daten!E35,"- ") -> 44.581395 | G35: =IFERROR(Daten!F35/Daten!D35,"- ") -> 1.7332731 | H35: =IFERROR(Daten!H35/Daten!K35,"- ") -> - | I35: =IFERROR(Daten!H35/Daten!I35,"- ") -> - | J35: =IFERROR(Daten!J35/Daten!I35,"- ") -> - | K35: =IFERROR(Daten!J35/Daten!H35,"- ") -> - | L35: =IFERROR(Daten!L35/Daten!O35,"- ") -> 14.363636 | M35: =IFERROR(Daten!L35/Daten!M35,"- ") -> 25.72093 | N35: =IFERROR(Daten!N35/Daten!M35,"- ") -> 44.581395 | O35: =IFERROR(Daten!N35/Daten!L35,"- ") -> 1.7332731
C36: Freie Waldorfschule Sekundarbereich I | D36: =IFERROR(Daten!D36/Daten!G36,"- ") -> 14.256881 | E36: =IFERROR(Daten!D36/Daten!E36,"- ") -> 28.777778 | F36: =IFERROR(Daten!F36/Daten!E36,"- ") -> 52.5 | G36: =IFERROR(Daten!F36/Daten!D36,"- ") -> 1.8243243 | H36: =IFERROR(Daten!H36/Daten!K36,"- ") -> - | I36: =IFERROR(Daten!H36/Daten!I36,"- ") -> - | J36: =IFERROR(Daten!J36/Daten!I36,"- ") -> - | K36: =IFERROR(Daten!J36/Daten!H36,"- ") -> - | L36: =IFERROR(Daten!L36/Daten!O36,"- ") -> 14.256881 | M36: =IFERROR(Daten!L36/Daten!M36,"- ") -> 28.777778 | N36: =IFERROR(Daten!N36/Daten!M36,"- ") -> 52.5 | O36: =IFERROR(Daten!N36/Daten!L36,"- ") -> 1.8243243
C37: Sekundarbereich I | D37: =IFERROR(Daten!D37/Daten!G37,"- ") -> 14.000376 | E37: =IFERROR(Daten!D37/Daten!E37,"- ") -> 22.966667 | F37: =IFERROR(Daten!F37/Daten!E37,"- ") -> 42.191667 | G37: =IFERROR(Daten!F37/Daten!D37,"- ") -> 1.8370827 | H37: =IFERROR(Daten!H37/Daten!K37,"- ") -> 11.973316 | I37: =IFERROR(Daten!H37/Daten!I37,"- ") -> 20.529412 | J37: =IFERROR(Daten!J37/Daten!I37,"- ") -> 40.764706 | K37: =IFERROR(Daten!J37/Daten!H37,"- ") -> 1.9856734 | L37: =IFERROR(Daten!L37/Daten!O37,"- ") -> 13.738938 | M37: =IFERROR(Daten!L37/Daten!M37,"- ") -> 22.664234 | N37: =IFERROR(Daten!N37/Daten!M37,"- ") -> 42.014599 | O37: =IFERROR(Daten!N37/Daten!L37,"- ") -> 1.8537842
C38: Oberschule, Gesamtschule Sekundarbereich II | D38: =IFERROR(Daten!D38/Daten!G38,"- ") -> 6.7708333 | G38: =IFERROR(Daten!F38/Daten!D38,"- ") -> 3.6923077 | H38: =IFERROR(Daten!H38/Daten!K38,"- ") -> - | K38: =IFERROR(Daten!J38/Daten!H38,"- ") -> - | L38: =IFERROR(Daten!L38/Daten!O38,"- ") -> 6.7708333 | O38: =IFERROR(Daten!N38/Daten!L38,"- ") -> 3.6923077
C39: Gymnasium Sekundarbereich II | D39: =IFERROR(Daten!D39/Daten!G39,"- ") -> 12.690898 | G39: =IFERROR(Daten!F39/Daten!D39,"- ") -> 1.8158845 | H39: =IFERROR(Daten!H39/Daten!K39,"- ") -> - | K39: =IFERROR(Daten!J39/Daten!H39,"- ") -> - | L39: =IFERROR(Daten!L39/Daten!O39,"- ") -> 12.690898 | O39: =IFERROR(Daten!N39/Daten!L39,"- ") -> 1.8158845
C40: Freie Waldorfschule Sekundarbereich II | D40: =IFERROR(Daten!D40/Daten!G40,"- ") -> 12.27154 | G40: =IFERROR(Daten!F40/Daten!D40,"- ") -> 1.9787234 | H40: =IFERROR(Daten!H40/Daten!K40,"- ") -> - | K40: =IFERROR(Daten!J40/Daten!H40,"- ") -> - | L40: =IFERROR(Daten!L40/Daten!O40,"- ") -> 12.27154 | O40: =IFERROR(Daten!N40/Daten!L40,"- ") -> 1.9787234
C41: Sekundarbereich II | D41: =IFERROR(Daten!D41/Daten!G41,"- ") -> 11.882582 | G41: =IFERROR(Daten!F41/Daten!D41,"- ") -> 1.9772106 | H41: =IFERROR(Daten!H41/Daten!K41,"- ") -> - | K41: =IFERROR(Daten!J41/Daten!H41,"- ") -> - | L41: =IFERROR(Daten!L41/Daten!O41,"- ") -> 11.882582 | O41: =IFERROR(Daten!N41/Daten!L41,"- ") -> 1.9772106
...
