Workbook

Sheet Erläuterung
B4: Definitionen Als Absolvierende werden Schüler:innen bezeichnet, die eine allgemeinbildende Schulart nach Vollendung der Vollzeitschulpflicht am Ende oder im Verlauf des Berichtsschuljahres mit einem Abschluss (mindestens einfache Berufsbildungsreife) verlassen haben. Hierzu zählen auch mit Abschluss an eine andere allgemeinbildenden Schulart wechselnden Schüler:innen (Übergehende). Übergehende werden also in Zeitreihen mit den jeweiligen Abschlüssen mehrfach als Absolvierende gezählt, zunächst als Übergehende, dann als Schulentlassene. Als Abgehende werden Schüler:innen bezeichnet, die das allgemeinbildende Schulsystem nach Vollendung der Vollzeitschulpflicht am Ende oder im Verlauf des Berichtsschuljahres, ohne mindestens eine Berufsbildungsreife erlangt zu haben, verlassen haben (meist als „Abgehende ohne Abschluss“ oder „Abgehende ohne Berufsbildungsreife“ bezeichnet). Hierunter befinden sich auch viele Schüler:innen mit sonderpädagogischen Förderbedarfen sowie Schüler:innen, die aufgrund Ihrer Zuwanderungsgeschichte ggf. erst wenige Jahre im allgemeinbildenden Schulsystem verbracht haben. Einbezogen werden auch Schüler:innen, die nach Verlassen des allgemeinbildenden Schulwesens ihre Vollzeitschulpflicht an einer beruflichen Schule erfüllen, auch, um dort ggf. allgemeinbildende Abschlüsse nachzuholen. Schulentlassene sind Abgehende und Absolvierende, die das allgemeinbildende Schulsystem verlassen. Hier bleiben jene Schüler:innen außer Betracht, die nach einem Wechsel der Schulart innerhalb des allgemeinbildenden Schulwesens verbleiben. Auf diese Weise werden Doppelzählungen innerhalb des allgemeinbildenden Bereichs über die Jahre hinweg vermieden. Jede:r Schüler:in, der:die das allgemeinbildende Schulwesen verlässt, wird nur einmal gezählt und zwar mit dem höchsten erreichten Abschluss.
E17: Abgehende (ohne Berufsbildungsreife) | J17: Absolvierende (mit mindestens Berufsbildungsreife)
E18: Schulentlassene (verlassen das allgemeinbildende Schulsystem) | P18: Übergehende (wechseln mit Abschluss die Schulart im allgemeinbildenden Schulsystem)
B20: Die gebildeten Kennzahlen bilden somit noch nicht den letztlich erreichten Abschluss der Schüler:innen ab, sondern nur den Zwischenstand beim Verlassen des allgemeinbildenden Schulsystems bzw. beim Wechsel der allgemeinbildenden Schulart. Im beruflichen Schulsystem werden jedoch auch noch viele Abschlüsse nachgeholt bzw. höhere zusätzliche Abschlüsse erworben. Die Daten sollen somit vor allem auf zwei Fragen Antwort geben: 1. Wie viele Schüler:innen gehen mit welchen Qualifikationen von den einzelnen Schularten des allgemeinbildenden Schulsystems ab bzw. wechseln mit Abschluss an eine andere allgemeinbildende Schulart? Dies wird durch Auswertungen der Gesamtgruppe der Abgehenden und Absolvierenden beantwortet. 2. Wie viele Schüler:innen verlassen das allgemeinbildende Schulsystem insgesamt? Dies wird durch Auswertungen der Schulentlassenen beantwortet - sie sind die wichtigste Teilgruppe der Abgehenden und Absolvierenden. Die aus dem allgemeinbildenden Schulwesen entlassenen Schüler:innen können sich - abhängig vom erreichten Abschluss - an einer beruflichen Schule, an einer Hochschule, um einen Ausbildungsplatz oder um einen Arbeitsplatz bewerben. Insofern kommt der Zahl der Schulentlassenen aus dem allgemeinbildenden Schulsystem große Bedeutung zu. Insbesondere die zweite Frage ist somit aus Sicht des Arbeitsmarktes bzw. der anschließenden beruflichen Bildung von besonderem Interesse und stellt das Ergebnis des Bildungsweges in den allgemeinbildenden Schularten besser dar. Im Folgenden werden daher die Schulentlassenen vordergründig dargestellt und die Übergehenden lediglich nachrichtlich ausgewiesen. Kennzahlen Bevölkerungsbezogene Quoten Die Abschlussquoten von Absolvierenden, Abgehenden ohne Berufsbildungsreife bzw. Schulentlassenen sind gleich dem Quotienten aus der Zahl der Absolvierenden/ Abgehenden bzw. Schulentlassenen mit der entsprechenden Qualifikation und der Anzahl der gleichaltrigen Bevölkerung. Dies wird durch das Quotensummenverfahren berechnet. Dabei wird pro Entlassjahrgang die Anzahl der Absolvierenden, Abgehenden ohne Berufsbildungsreife bzw. Schulentlassenen aus einem Altersjahrgang durch die Bevölkerung des entsprechend altersgleichen Bevölkerungsjahrgangs geteilt. Dies wird für jeden Bevölkerungsjahrgang angewendet, in dem es für den jeweiligen Abschluss Absolvierende bzw. Abgehende ohne Abschluss gibt. Letztendlich werden die bevölkerungsjahrgangsbezogenen so berechneten einzelnen Quoten addiert. Die Summe der einzelnen Quoten über die Abschlüsse ergibt nicht methodisch 100 Prozent, da bei den Abschlüssen unterschiedliche Altersjahrgänge enthalten sind. Im Rahmen des Zensus werden teilweise Bevölkerungszahlen nachträglich angepasst. Sofern bei der Erstellung diese Datenblattes eine solche Anpassung erfolgte, können geringfüge Abweichungen dieser Quote von den von KMK, statistischem Bundesamt oder des IQHB veröffentlichten Quote entstehen. Verteilungsanteile Ergänzend können die Absolvierenden und Abgehenden oder Schulentlassenen auch in der Verteilung auf die Abschlüsse dargestellt werden. Hier wird abschlussbezogen aufgezeigt, wie hoch der Anteil der Absolvierenden/ Abgehenden bzw. Schulentlassenen insgesamt ist. Die Addition der Einzelquoten ergibt hier 100 Prozent. Die dargestellten Kennnzahlen beziehen sich hier nur auf die Schulentlassenen der öffentlichen und privaten Schulen.

Sheet Abschluss
A1: Entlassjahr 2022
C3: Schulentlassene | D3: ohne Berufsbildungsreife | F3: einfache Berufsbildungsreife | H3: erweiterte Berufsbildungsreife | J3: Mittlerer Schulabschluss ° | L3: Abitur | N3: Insgesamt
C4: aus Schulform | D4: gesamt | E4: davon aus öffentlichen Schulen | F4: gesamt | G4: davon aus öffentlichen Schulen | H4: gesamt | I4: davon aus öffentlichen Schulen | J4: gesamt | K4: davon aus öffentlichen Schulen | L4: gesamt | M4: davon aus öffentlichen Schulen | N4: gesamt | O4: davon aus öffentlichen Schulen
B5: Bremen | C5: Oberschule/Gesamtschule | D5: 359 | E5: 358 | F5: 276 | G5: 268 | H5: 627 | I5: 608 | J5: 1245 | K5: 1164 | L5: 910 | M5: 890 | N5: =D5+F5+H5+J5+L5 -> 3417 | O5: =E5+G5+I5+K5+M5 -> 3288
C6: Gymnasium | D6: 28 | E6: 28 | F6: 42 | G6: 32 | H6: 30 | I6: 29 | J6: 189 | K6: 165 | L6: 923 | M6: 717 | N6: =D6+F6+H6+J6+L6 -> 1212 | O6: =E6+G6+I6+K6+M6 -> 971
C7: Freie Waldorfschule | D7: 4 | E7: 0 | F7: 0 | G7: 0 | H7: 2 | I7: 0 | J7: 18 | K7: 0 | L7: 44 | M7: 0 | N7: =D7+F7+H7+J7+L7 -> 68 | O7: =E7+G7+I7+K7+M7 -> 0
C8: Werkschule | D8: 38 | E8: 38 | F8: 15 | G8: 15 | H8: 81 | I8: 81 | J8: 0 | K8: 0 | L8: 0 | M8: 0 | N8: =D8+F8+H8+J8+L8 -> 134 | O8: =E8+G8+I8+K8+M8 -> 134
C9: Förderzentrum | D9: 29 | E9: 24 | F9: 7 | G9: 3 | H9: 2 | I9: 2 | J9: 1 | K9: 1 | L9: 0 | M9: 0 | N9: =D9+F9+H9+J9+L9 -> 39 | O9: =E9+G9+I9+K9+M9 -> 30
C10: Erwachsenenschule | D10: 0 | E10: 0 | F10: 0 | G10: 0 | H10: 19 | I10: 19 | J10: 131 | K10: 131 | L10: 63 | M10: 63 | N10: =D10+F10+H10+J10+L10 -> 213 | O10: =E10+G10+I10+K10+M10 -> 213
C11: gesamt | D11: =SUM(D5:D10) -> 458 | E11: =SUM(E5:E10) -> 448 | F11: =SUM(F5:F10) -> 340 | G11: =SUM(G5:G10) -> 318 | H11: =SUM(H5:H10) -> 761 | I11: =SUM(I5:I10) -> 739 | J11: =SUM(J5:J10) -> 1584 | K11: =SUM(K5:K10) -> 1461 | ... M11: =SUM(M5:M10) -> 1670 | N11: =D11+F11+H11+J11+L11 -> 5083 | O11: =E11+G11+I11+K11+M11 -> 4636
B12: Bremerhaven | C12: Oberschule | D12: 164 | E12: 164 | F12: 123 | G12: 123 | H12: 213 | I12: 198 | J12: 333 | K12: 316 | L12: 306 | M12: 306 | N12: =D12+F12+H12+J12+L12 -> 1139 | O12: =E12+G12+I12+K12+M12 -> 1107
C13: Gymnasium | D13: 0 | E13: 0 | F13: 10 | G13: 10 | H13: 1 | I13: 1 | J13: 18 | K13: 18 | L13: 164 | M13: 164 | N13: =D13+F13+H13+J13+L13 -> 193 | O13: =E13+G13+I13+K13+M13 -> 193
C14: Freie Waldorfschule | D14: 0 | E14: 0 | F14: 0 | G14: 0 | H14: 0 | I14: 0 | J14: 0 | K14: 0 | L14: 0 | M14: 0 | N14: =D14+F14+H14+J14+L14 -> 0 | O14: =E14+G14+I14+K14+M14 -> 0
C15: Werkschule | D15: 10 | E15: 10 | F15: 2 | G15: 2 | H15: 11 | I15: 11 | J15: 0 | K15: 0 | L15: 0 | M15: 0 | N15: =D15+F15+H15+J15+L15 -> 23 | O15: =E15+G15+I15+K15+M15 -> 23
C16: Förderzentrum | D16: 0 | E16: 0 | F16: 0 | G16: 0 | H16: 0 | I16: 0 | J16: 0 | K16: 0 | L16: 0 | M16: 0 | N16: =D16+F16+H16+J16+L16 -> 0 | O16: =E16+G16+I16+K16+M16 -> 0
C17: Erwachsenenschule | D17: 0 | E17: 0 | F17: 0 | G17: 0 | H17: 9 | I17: 9 | J17: 10 | K17: 10 | L17: 4 | M17: 4 | N17: =D17+F17+H17+J17+L17 -> 23 | O17: =E17+G17+I17+K17+M17 -> 23
C18: gesamt | D18: =SUM(D12:D17) -> 174 | E18: =SUM(E12:E17) -> 174 | F18: =SUM(F12:F17) -> 135 | G18: =SUM(G12:G17) -> 135 | H18: =SUM(H12:H17) -> 234 | I18: =SUM(I12:I17) -> 219 | J18: =SUM(J12:J17) -> 361 | K18: =SUM(K12:K17) -> 344 | ... M18: =SUM(M12:M17) -> 474 | N18: =D18+F18+H18+J18+L18 -> 1378 | O18: =E18+G18+I18+K18+M18 -> 1346
B19: Land Bremen | C19: Oberschule/Gesamtschule | D19: =D5+D12 -> 523 | E19: =E5+E12 -> 522 | F19: =F5+F12 -> 399 | G19: =G5+G12 -> 391 | H19: =H5+H12 -> 840 | I19: =I5+I12 -> 806 | J19: =J5+J12 -> 1578 | K19: =K5+K12 -> 1480 | ... M19: =M5+M12 -> 1196 | N19: =D19+F19+H19+J19+L19 -> 4556 | O19: =E19+G19+I19+K19+M19 -> 4395
C20: Gymnasium | D20: =D6+D13 -> 28 | E20: =E6+E13 -> 28 | F20: =F6+F13 -> 52 | G20: =G6+G13 -> 42 | H20: =H6+H13 -> 31 | I20: =I6+I13 -> 30 | J20: =J6+J13 -> 207 | K20: =K6+K13 -> 183 | ... M20: =M6+M13 -> 881 | N20: =D20+F20+H20+J20+L20 -> 1405 | O20: =E20+G20+I20+K20+M20 -> 1164
C21: Freie Waldorfschule | D21: =D7+D14 -> 4 | E21: =E7+E14 -> 0 | F21: =F7+F14 -> 0 | G21: =G7+G14 -> 0 | H21: =H7+H14 -> 2 | I21: =I7+I14 -> 0 | J21: =J7+J14 -> 18 | K21: =K7+K14 -> 0 | ... M21: =M7+M14 -> 0 | N21: =D21+F21+H21+J21+L21 -> 68 | O21: =E21+G21+I21+K21+M21 -> 0
C22: Werkschule | D22: =D8+D15 -> 48 | E22: =E8+E15 -> 48 | F22: =F8+F15 -> 17 | G22: =G8+G15 -> 17 | H22: =H8+H15 -> 92 | I22: =I8+I15 -> 92 | J22: =J8+J15 -> 0 | K22: =K8+K15 -> 0 | ... M22: =M8+M15 -> 0 | N22: =D22+F22+H22+J22+L22 -> 157 | O22: =E22+G22+I22+K22+M22 -> 157
C23: Förderzentrum | D23: =D9+D16 -> 29 | E23: =E9+E16 -> 24 | F23: =F9+F16 -> 7 | G23: =G9+G16 -> 3 | H23: =H9+H16 -> 2 | I23: =I9+I16 -> 2 | J23: =J9+J16 -> 1 | K23: =K9+K16 -> 1 | ... M23: =M9+M16 -> 0 | N23: =D23+F23+H23+J23+L23 -> 39 | O23: =E23+G23+I23+K23+M23 -> 30
C24: Erwachsenenschule | D24: =D10+D17 -> 0 | E24: =E10+E17 -> 0 | F24: =F10+F17 -> 0 | G24: =G10+G17 -> 0 | H24: =H10+H17 -> 28 | I24: =I10+I17 -> 28 | J24: =J10+J17 -> 141 | K24: =K10+K17 -> 141 | ... M24: =M10+M17 -> 67 | N24: =D24+F24+H24+J24+L24 -> 236 | O24: =E24+G24+I24+K24+M24 -> 236
C25: gesamt | D25: =D11+D18 -> 632 | E25: =E11+E18 -> 622 | F25: =F11+F18 -> 475 | G25: =G11+G18 -> 453 | H25: =H11+H18 -> 995 | I25: =I11+I18 -> 958 | J25: =J11+J18 -> 1945 | K25: =K11+K18 -> 1805 | ... M25: =M11+M18 -> 2144 | N25: =D25+F25+H25+J25+L25 -> 6461 | O25: =E25+G25+I25+K25+M25 -> 5982
B26: nachrichtlich Übergänger:innen
B27: Bremen | C27: Oberschule/Gesamtschule | D27: 0 | E27: 0 | F27: 34 | G27: 1 | H27: 0 | I27: 0 | J27: 118 | K27: 97 | L27: 0 | M27: 0 | N27: =D27+F27+H27+J27+L27 -> 152 | O27: =E27+G27+I27+K27+M27 -> 98
C28: Gymnasium | D28: 0 | E28: 0 | F28: 0 | G28: 0 | H28: 0 | I28: 0 | J28: 0 | K28: 0 | L28: 0 | M28: 0 | N28: =D28+F28+H28+J28+L28 -> 0 | O28: =E28+G28+I28+K28+M28 -> 0
C29: Freie Waldorfschule | D29: 0 | E29: 0 | F29: 0 | G29: 0 | H29: 0 | I29: 0 | J29: 0 | K29: 0 | L29: 0 | M29: 0 | N29: =D29+F29+H29+J29+L29 -> 0 | O29: =E29+G29+I29+K29+M29 -> 0
C30: Werkschule | D30: 0 | E30: 0 | F30: 0 | G30: 0 | H30: 0 | I30: 0 | J30: 0 | K30: 0 | L30: 0 | M30: 0 | N30: =D30+F30+H30+J30+L30 -> 0 | O30: =E30+G30+I30+K30+M30 -> 0
C31: Förderzentrum | D31: 0 | E31: 0 | F31: 0 | G31: 0 | H31: 0 | I31: 0 | J31: 0 | K31: 0 | L31: 0 | M31: 0 | N31: =D31+F31+H31+J31+L31 -> 0 | O31: =E31+G31+I31+K31+M31 -> 0
C32: Erwachsenenschule | D32: 0 | E32: 0 | F32: 0 | G32: 0 | H32: 0 | I32: 0 | J32: 0 | K32: 0 | L32: 0 | M32: 0 | N32: =D32+F32+H32+J32+L32 -> 0 | O32: =E32+G32+I32+K32+M32 -> 0
C33: gesamt | D33: =SUM(D27:D32) -> 0 | E33: =SUM(E27:E32) -> 0 | F33: =SUM(F27:F32) -> 34 | G33: =SUM(G27:G32) -> 1 | H33: =SUM(H27:H32) -> 0 | I33: =SUM(I27:I32) -> 0 | J33: =SUM(J27:J32) -> 118 | K33: =SUM(K27:K32) -> 97 | ... M33: =SUM(M27:M32) -> 0 | N33: =D33+F33+H33+J33+L33 -> 152 | O33: =E33+G33+I33+K33+M33 -> 98
B34: Bremerhaven | C34: Oberschule | D34: 0 | E34: 0 | F34: 0 | G34: 0 | H34: 0 | I34: 0 | J34: 10 | K34: 9 | L34: 0 | M34: 0 | N34: =D34+F34+H34+J34+L34 -> 10 | O34: =E34+G34+I34+K34+M34 -> 9
C35: Gymnasium | D35: 0 | E35: 0 | F35: 0 | G35: 0 | H35: 0 | I35: 0 | J35: 0 | K35: 0 | L35: 0 | M35: 0 | N35: =D35+F35+H35+J35+L35 -> 0 | O35: =E35+G35+I35+K35+M35 -> 0
C36: Freie Waldorfschule | D36: 0 | E36: 0 | F36: 0 | G36: 0 | H36: 0 | I36: 0 | J36: 0 | K36: 0 | L36: 0 | M36: 0 | N36: =D36+F36+H36+J36+L36 -> 0 | O36: =E36+G36+I36+K36+M36 -> 0
C37: Werkschule | D37: 0 | E37: 0 | F37: 0 | G37: 0 | H37: 0 | I37: 0 | J37: 0 | K37: 0 | L37: 0 | M37: 0 | N37: =D37+F37+H37+J37+L37 -> 0 | O37: =E37+G37+I37+K37+M37 -> 0
C38: Förderzentrum | D38: 0 | E38: 0 | F38: 0 | G38: 0 | H38: 0 | I38: 0 | J38: 0 | K38: 0 | L38: 0 | M38: 0 | N38: =D38+F38+H38+J38+L38 -> 0 | O38: =E38+G38+I38+K38+M38 -> 0
C39: Erwachsenenschule | D39: 0 | E39: 0 | F39: 0 | G39: 0 | H39: 0 | I39: 0 | J39: 0 | K39: 0 | L39: 0 | M39: 0 | N39: =D39+F39+H39+J39+L39 -> 0 | O39: =E39+G39+I39+K39+M39 -> 0
C40: gesamt | D40: =SUM(D34:D39) -> 0 | E40: =SUM(E34:E39) -> 0 | F40: =SUM(F34:F39) -> 0 | G40: =SUM(G34:G39) -> 0 | H40: =SUM(H34:H39) -> 0 | I40: =SUM(I34:I39) -> 0 | J40: =SUM(J34:J39) -> 10 | K40: =SUM(K34:K39) -> 9 | ... M40: =SUM(M34:M39) -> 0 | N40: =D40+F40+H40+J40+L40 -> 10 | O40: =E40+G40+I40+K40+M40 -> 9
B41: Land Bremen | C41: Oberschule/Gesamtschule | D41: =D27+D34 -> 0 | E41: =E27+E34 -> 0 | F41: =F27+F34 -> 34 | G41: =G27+G34 -> 1 | H41: =H27+H34 -> 0 | I41: =I27+I34 -> 0 | J41: =J27+J34 -> 128 | K41: =K27+K34 -> 106 | ... M41: =M27+M34 -> 0 | N41: =D41+F41+H41+J41+L41 -> 162 | O41: =E41+G41+I41+K41+M41 -> 107
C42: Gymnasium | D42: =D28+D35 -> 0 | E42: =E28+E35 -> 0 | F42: =F28+F35 -> 0 | G42: =G28+G35 -> 0 | H42: =H28+H35 -> 0 | I42: =I28+I35 -> 0 | J42: =J28+J35 -> 0 | K42: =K28+K35 -> 0 | ... M42: =M28+M35 -> 0 | N42: =D42+F42+H42+J42+L42 -> 0 | O42: =E42+G42+I42+K42+M42 -> 0
C43: Freie Waldorfschule | D43: =D29+D36 -> 0 | E43: =E29+E36 -> 0 | F43: =F29+F36 -> 0 | G43: =G29+G36 -> 0 | H43: =H29+H36 -> 0 | I43: =I29+I36 -> 0 | J43: =J29+J36 -> 0 | K43: =K29+K36 -> 0 | ... M43: =M29+M36 -> 0 | N43: =D43+F43+H43+J43+L43 -> 0 | O43: =E43+G43+I43+K43+M43 -> 0
C44: Werkschule | D44: =D30+D37 -> 0 | E44: =E30+E37 -> 0 | F44: =F30+F37 -> 0 | G44: =G30+G37 -> 0 | H44: =H30+H37 -> 0 | I44: =I30+I37 -> 0 | J44: =J30+J37 -> 0 | K44: =K30+K37 -> 0 | ... M44: =M30+M37 -> 0 | N44: =D44+F44+H44+J44+L44 -> 0 | O44: =E44+G44+I44+K44+M44 -> 0
C45: Förderzentrum | D45: =D31+D38 -> 0 | E45: =E31+E38 -> 0 | F45: =F31+F38 -> 0 | G45: =G31+G38 -> 0 | H45: =H31+H38 -> 0 | I45: =I31+I38 -> 0 | J45: =J31+J38 -> 0 | K45: =K31+K38 -> 0 | ... M45: =M31+M38 -> 0 | N45: =D45+F45+H45+J45+L45 -> 0 | O45: =E45+G45+I45+K45+M45 -> 0
C46: Erwachsenenschule | D46: =D32+D39 -> 0 | E46: =E32+E39 -> 0 | F46: =F32+F39 -> 0 | G46: =G32+G39 -> 0 | H46: =H32+H39 -> 0 | I46: =I32+I39 -> 0 | J46: =J32+J39 -> 0 | K46: =K32+K39 -> 0 | ... M46: =M32+M39 -> 0 | N46: =D46+F46+H46+J46+L46 -> 0 | O46: =E46+G46+I46+K46+M46 -> 0
C47: gesamt | D47: =D33+D40 -> 0 | E47: =E33+E40 -> 0 | F47: =F33+F40 -> 34 | G47: =G33+G40 -> 1 | H47: =H33+H40 -> 0 | I47: =I33+I40 -> 0 | J47: =J33+J40 -> 128 | K47: =K33+K40 -> 106 | ... M47: =M33+M40 -> 0 | N47: =D47+F47+H47+J47+L47 -> 162 | O47: =E47+G47+I47+K47+M47 -> 107
B48: ° inklusive Absolvent:innen, die den schulischen Teil der Fachhochschulreife erlangt haben

Sheet Quoten
A1: =Abschluss!A1 -> Entlassjahr 2022
B3: Schulentlassene allgemeinbildende Schulen
B5: Anzahlen | C5: Bremen | D5: Bremerhaven | E5: Land Bremen
B6: ohne Berufsbildungsreife | C6: =Abschluss!D11 -> 458 | D6: =Abschluss!D18 -> 174 | E6: =C6+D6 -> 632
B7: davon mit Förderbedarf Wahrnehmung und Entwichlung | C7: 53 | D7: 19 | E7: =C7+D7 -> 72
B8: mit Förderbedarf Lernen, Sprache, sozioemotionale Entwicklung (LSE) | C8: 101 | D8: 43 | E8: =C8+D8 -> 144
B9: einfache Berufsbildungsreife | C9: =Abschluss!F11 -> 340 | D9: =Abschluss!F18 -> 135 | E9: =C9+D9 -> 475
B10: erweiterte Berufsbildungsreife | C10: =Abschluss!H11 -> 761 | D10: =Abschluss!H18 -> 234 | E10: =C10+D10 -> 995
B11: Mittlerer Schulabschluss ° | C11: =Abschluss!J11 -> 1584 | D11: =Abschluss!J18 -> 361 | E11: =C11+D11 -> 1945
B12: Abitur | C12: =Abschluss!L11 -> 1940 | D12: =Abschluss!L18 -> 474 | E12: =C12+D12 -> 2414
B13: ° inklusive Absolvent:innen, die den schulischen Teil der Fachhochschulreife erlangt haben
B15: Bevölkerungsbezogene Quote nach Quotensummenmodell
B17: Schulentlassene | C17: Bremen | D17: Bremerhaven | E17: Land Bremen
B18: ohne Berufsbildungsreife | C18: 0.09310693 | D18: 0.15361023 | E18: 0.10451023
B19: mit Förderbedarf Wahrnehmung und Entwichlung | C19: 0.010824619 | D19: 0.016603532 | E19: 0.011953071
B20: mit Förderbedarf Lernen, Sprache, sozioemotionale Entwicklung (LSE) | C20: 0.020410391 | D20: 0.037878174 | E20: 0.023758075
B21: einfache Berufsbildungsreife | C21: 0.069383479 | D21: 0.11947684 | E21: 0.07873057
B22: erweiterte Berufsbildungsreife | C22: 0.15434071 | D22: 0.20558289 | E22: 0.16387425
B23: Mittlerer Schulabschluss ° | C23: 0.30931156 | D23: 0.31640036 | E23: 0.31081206
B24: Abitur | C24: 0.36644276 | D24: 0.41632653 | E24: 0.37507087
B25: ° inklusive Absolvent:innen, die den schulischen Teil der Fachhochschulreife erlangt haben
B27: Verteilung nach Abschlüssen
B29: Schulentlassene | C29: Bremen | D29: Bremerhaven | E29: Land Bremen
B30: ohne Berufsbildungsreife | C30: =IFERROR(C6/($C$6+$C$9+$C$10+$C$11+$C$12),"-") -> 0.090104269 | D30: =IFERROR(D6/($D$6+$D$9+$D$10+$D$11+$D$12),"-") -> 0.12626996 | E30: =IFERROR(E6/($E$6+$E$9+$E$10+$E$11+$E$12),"-") -> 0.097817675
B31: mit Förderbedarf Wahrnehmung und Entwichlung | C31: =IFERROR(C7/($C$6+$C$9+$C$10+$C$11+$C$12),"-") -> 0.010426913 | D31: =IFERROR(D7/($D$6+$D$9+$D$10+$D$11+$D$12),"-") -> 0.013788099 | E31: =IFERROR(E7/($E$6+$E$9+$E$10+$E$11+$E$12),"-") -> 0.011143786
B32: mit Förderbedarf Lernen, Sprache, sozioemotionale Entwicklung (LSE) | C32: =IFERROR(C8/($C$6+$C$9+$C$10+$C$11+$C$12),"-") -> 0.019870155 | D32: =IFERROR(D8/($D$6+$D$9+$D$10+$D$11+$D$12),"-") -> 0.031204644 | E32: =IFERROR(E8/($E$6+$E$9+$E$10+$E$11+$E$12),"-") -> 0.022287572
B33: einfache Berufsbildungsreife | C33: =IFERROR(C9/($C$6+$C$9+$C$10+$C$11+$C$12),"-") -> 0.066889632 | D33: =IFERROR(D9/($D$6+$D$9+$D$10+$D$11+$D$12),"-") -> 0.09796807 | E33: =IFERROR(E9/($E$6+$E$9+$E$10+$E$11+$E$12),"-") -> 0.073518031
B34: erweiterte Berufsbildungsreife | C34: =IFERROR(C10/($C$6+$C$9+$C$10+$C$11+$C$12),"-") -> 0.14971474 | D34: =IFERROR(D10/($D$6+$D$9+$D$10+$D$11+$D$12),"-") -> 0.16981132 | E34: =IFERROR(E10/($E$6+$E$9+$E$10+$E$11+$E$12),"-") -> 0.15400093
B35: Mittlerer Schulabschluss ° | C35: =IFERROR(C11/($C$6+$C$9+$C$10+$C$11+$C$12),"-") -> 0.31162699 | D35: =IFERROR(D11/($D$6+$D$9+$D$10+$D$11+$D$12),"-") -> 0.26197388 | E35: =IFERROR(E11/($E$6+$E$9+$E$10+$E$11+$E$12),"-") -> 0.30103699
B36: Abitur | C36: =IFERROR(C12/($C$6+$C$9+$C$10+$C$11+$C$12),"-") -> 0.38166437 | D36: =IFERROR(D12/($D$6+$D$9+$D$10+$D$11+$D$12),"-") -> 0.34397678 | E36: =IFERROR(E12/($E$6+$E$9+$E$10+$E$11+$E$12),"-") -> 0.37362637
B37: ° inklusive Absolvent:innen, die den schulischen Teil der Fachhochschulreife erlangt haben
